BEGIN:VCALENDAR
VERSION:2.0
PRODID:-//Tandem Duha&copy; - ECPv6.15.15//NONSGML v1.0//EN
CALSCALE:GREGORIAN
METHOD:PUBLISH
X-ORIGINAL-URL:https://www.tandemduha.cz
X-WR-CALDESC:Akce na Tandem Duha&copy;
REFRESH-INTERVAL;VALUE=DURATION:PT1H
X-Robots-Tag:noindex
X-PUBLISHED-TTL:PT1H
BEGIN:VTIMEZONE
TZID:UTC
BEGIN:STANDARD
TZOFFSETFROM:+0000
TZOFFSETTO:+0000
TZNAME:UTC
DTSTART:20230101T000000
END:STANDARD
END:VTIMEZONE
BEGIN:VEVENT
DTSTART;VALUE=DATE:20240731
DTEND;VALUE=DATE:20240801
DTSTAMP:20260423T021740
CREATED:20240715T133155Z
LAST-MODIFIED:20240720T185843Z
UID:2921-1722384000-1722470399@www.tandemduha.cz
SUMMARY:Spuštění nového webu Tandem Duha
DESCRIPTION:S radostí Vám oznamujeme slavnostní spuštění našeho nového webu! Jsme nadšeni\, že můžeme oznámit naši novou spolupráci s talentovaným vývojářem webových stránek. Stanislav Drako se rozhodl věnovat svůj čas a odborné znalosti na vytvoření našich nových webových stránek zcela zdarma jako výraz dobré vůle a lidskosti. \nDíky jeho velkorysosti a dovednostem nyní můžeme nabídnout moderní\, přehlednou a uživatelsky přívětivou platformu\, která lépe slouží naší komunitě. Jeho práce nám umožní efektivněji komunikovat\, sdílet informace o našich akcích a oslovit více lidí\, kteří by se chtěli připojit k naší misi.
URL:https://www.tandemduha.cz/udalost/spusteni-noveho-webu-tandem-duha/
LOCATION:Informační centrum a knihovna MŠ\, Vydmuchov 1835/10\, Karviná - Fryštát\, Moravskoslezský\, 73301\, Česká republika
ORGANIZER;CN="Tandem Duha":MAILTO:info@tandemduha.cz
END:VEVENT
END:VCALENDAR