BEGIN:VCALENDAR
VERSION:2.0
PRODID:-//Tandem Duha&copy; - ECPv6.15.15//NONSGML v1.0//EN
CALSCALE:GREGORIAN
METHOD:PUBLISH
X-WR-CALNAME:Tandem Duha&copy;
X-ORIGINAL-URL:https://www.tandemduha.cz
X-WR-CALDESC:Akce na Tandem Duha&copy;
REFRESH-INTERVAL;VALUE=DURATION:PT1H
X-Robots-Tag:noindex
X-PUBLISHED-TTL:PT1H
BEGIN:VTIMEZONE
TZID:Europe/Amsterdam
BEGIN:DAYLIGHT
TZOFFSETFROM:+0100
TZOFFSETTO:+0200
TZNAME:CEST
DTSTART:20220327T010000
END:DAYLIGHT
BEGIN:STANDARD
TZOFFSETFROM:+0200
TZOFFSETTO:+0100
TZNAME:CET
DTSTART:20221030T010000
END:STANDARD
BEGIN:DAYLIGHT
TZOFFSETFROM:+0100
TZOFFSETTO:+0200
TZNAME:CEST
DTSTART:20230326T010000
END:DAYLIGHT
BEGIN:STANDARD
TZOFFSETFROM:+0200
TZOFFSETTO:+0100
TZNAME:CET
DTSTART:20231029T010000
END:STANDARD
BEGIN:DAYLIGHT
TZOFFSETFROM:+0100
TZOFFSETTO:+0200
TZNAME:CEST
DTSTART:20240331T010000
END:DAYLIGHT
BEGIN:STANDARD
TZOFFSETFROM:+0200
TZOFFSETTO:+0100
TZNAME:CET
DTSTART:20241027T010000
END:STANDARD
END:VTIMEZONE
BEGIN:VEVENT
DTSTART;TZID=Europe/Amsterdam:20231102T150000
DTEND;TZID=Europe/Amsterdam:20231102T170000
DTSTAMP:20260421T185729
CREATED:20240831T140350Z
LAST-MODIFIED:20240919T191508Z
UID:3746-1698937200-1698944400@www.tandemduha.cz
SUMMARY:Míčové hry
DESCRIPTION:Míčové hry s panem Dominem (tělocvična Komenského od 15:00 hod.)
URL:https://www.tandemduha.cz/udalost/micove-hry-4/
LOCATION:Informační centrum a knihovna MŠ\, Vydmuchov 1835/10\, Karviná - Fryštát\, Moravskoslezský\, 73301\, Česká republika
CATEGORIES:Akce
ATTACH;FMTTYPE=image/webp:https://www.tandemduha.cz/wp-content/uploads/2024/09/dump.webp
ORGANIZER;CN="Tandem Duha":MAILTO:info@tandemduha.cz
END:VEVENT
BEGIN:VEVENT
DTSTART;TZID=Europe/Amsterdam:20231109T180000
DTEND;TZID=Europe/Amsterdam:20231109T210000
DTSTAMP:20260421T185729
CREATED:20240831T140350Z
LAST-MODIFIED:20240919T191508Z
UID:3747-1699552800-1699563600@www.tandemduha.cz
SUMMARY:Stardance č.3
DESCRIPTION:Nácvik k taneční soutěži Svatomartinská stardance č.3 – Spolkový dům
URL:https://www.tandemduha.cz/udalost/stardance-c-3-2/
LOCATION:Informační centrum a knihovna MŠ\, Vydmuchov 1835/10\, Karviná - Fryštát\, Moravskoslezský\, 73301\, Česká republika
CATEGORIES:Akce
ATTACH;FMTTYPE=image/webp:https://www.tandemduha.cz/wp-content/uploads/2024/09/dump.webp
ORGANIZER;CN="Tandem Duha":MAILTO:info@tandemduha.cz
END:VEVENT
BEGIN:VEVENT
DTSTART;TZID=Europe/Amsterdam:20231111T170000
DTEND;TZID=Europe/Amsterdam:20231111T220000
DTSTAMP:20260421T185729
CREATED:20240831T140350Z
LAST-MODIFIED:20240919T191508Z
UID:3748-1699722000-1699740000@www.tandemduha.cz
SUMMARY:Svatomartinský ples
DESCRIPTION:Svatomartinský ples spolku – Obecní Dům Družba (od 17:00 hod.)
URL:https://www.tandemduha.cz/udalost/svatomartinsky-ples-2/
LOCATION:Informační centrum a knihovna MŠ\, Vydmuchov 1835/10\, Karviná - Fryštát\, Moravskoslezský\, 73301\, Česká republika
CATEGORIES:Akce
ATTACH;FMTTYPE=image/webp:https://www.tandemduha.cz/wp-content/uploads/2024/09/dump.webp
ORGANIZER;CN="Tandem Duha":MAILTO:info@tandemduha.cz
END:VEVENT
BEGIN:VEVENT
DTSTART;TZID=Europe/Amsterdam:20231130T150000
DTEND;TZID=Europe/Amsterdam:20231130T170000
DTSTAMP:20260421T185729
CREATED:20240831T140350Z
LAST-MODIFIED:20240919T191508Z
UID:3749-1701356400-1701363600@www.tandemduha.cz
SUMMARY:Míčové hry
DESCRIPTION:Míčové hry s panem Dominem (tělocvična Komenského od 15:00 hod.)
URL:https://www.tandemduha.cz/udalost/micove-hry-5/
LOCATION:Informační centrum a knihovna MŠ\, Vydmuchov 1835/10\, Karviná - Fryštát\, Moravskoslezský\, 73301\, Česká republika
CATEGORIES:Akce
ATTACH;FMTTYPE=image/webp:https://www.tandemduha.cz/wp-content/uploads/2024/09/dump.webp
ORGANIZER;CN="Tandem Duha":MAILTO:info@tandemduha.cz
END:VEVENT
END:VCALENDAR